BEGIN:VCALENDAR
VERSION:2.0
PRODID:http://www.kirchesaarwellingen.de
BEGIN:VEVENT
UID:94e695d3-3d30-11f1-a3e9-0242ac11002b-1785337200000-de
DTSTAMP:20260421T031709Z
DTSTART:20260729T150000Z
DTEND:20260729T154500Z
SUMMARY;LANGUAGE=de: Rosenkranzandacht 
URL:http://www.kirchesaarwellingen.de/gottesdienste/gottesdienst/Rosenkranzandacht-2026.07.29/
END:VEVENT
END:VCALENDAR
